BEGIN:VCALENDAR
VERSION:2.0
PRODID:-//Empowering Pumps and Equipment - ECPv5.16.4//NONSGML v1.0//EN
CALSCALE:GREGORIAN
METHOD:PUBLISH
X-ORIGINAL-URL:https://test.empoweringpumps.com
X-WR-CALDESC:Events for Empowering Pumps and Equipment
REFRESH-INTERVAL;VALUE=DURATION:PT1H
X-Robots-Tag:noindex
X-PUBLISHED-TTL:PT1H
BEGIN:VTIMEZONE
TZID:America/Chicago
BEGIN:DAYLIGHT
TZOFFSETFROM:-0600
TZOFFSETTO:-0500
TZNAME:CDT
DTSTART:20230312T080000
END:DAYLIGHT
BEGIN:STANDARD
TZOFFSETFROM:-0500
TZOFFSETTO:-0600
TZNAME:CST
DTSTART:20231105T070000
END:STANDARD
END:VTIMEZONE
BEGIN:VEVENT
DTSTART;TZID=America/Chicago:20230322T080000
DTEND;TZID=America/Chicago:20230323T170000
DTSTAMP:20260425T111954
CREATED:20221212T190805Z
LAST-MODIFIED:20221212T190805Z
UID:50933-1679472000-1679590800@test.empoweringpumps.com
SUMMARY:Catalyst: A Women In Industry Conference
DESCRIPTION:Join women in industry from Alabama and the Gulf Coast at Catalyst\, a conference created specifically for women in industry. Catalyst is designed to address the most important and prevalent issues facing women working in manufacturing and industrial settings. This is the first event of its kind held in Alabama. Our hope is to draw women together to connect\, inspire\, and empower one another. \nJoin us for the 2023 Welcome Reception! This reception will kick off the inaugural Catalyst Conference!\nHere’s what you can expect: \nA variety of delicious food and beverages\, showcasing Mobile and the gulf coast flavors; \n\nInteractive opportunities to meet new colleagues and catch up with some you may already know!\nThe opening reception is an additional fee unless you are an event sponsor.\n\nManufacture Alabama has secured a room block at the Riverview Plaza Hotel at a rate of $175/night. To book your group rate\, click here. Last day to book is Wednesday\, February 22\, 2023. \nBook your group rate for ‘Catalyst: A Women in Industry Conference’ \nA tentative program and schedule of events can be found by clicking here. \nSponsorship of Catalyst benefits GLAM\, a 501(c)(3) created to generate interest in manufacturing careers among the next generation of women in the workforce. To learn more about GLAM\, visit girlslearningaboutmanufacturing.comgirlslearningaboutmanufacturing.com.
URL:https://test.empoweringpumps.com/event/catalyst-a-women-in-industry-conference/
LOCATION:Riverview Plaza Hotel\, 64 South Water Street\, Mobile\, AL\, 36602\, United States
ATTACH;FMTTYPE=image/png:https://test.empoweringpumps.com/wp-content/uploads/2022/12/CATALYST-A-WOMEN-IN-INDUSTRY-CONFERENCE.png
ORGANIZER;CN="Manufacture%20Alabama":MAILTO:info@manufacturealabama.org
END:VEVENT
END:VCALENDAR