BEGIN:VCALENDAR
VERSION:2.0
PRODID:-//Empowering Pumps and Equipment - ECPv5.16.4//NONSGML v1.0//EN
CALSCALE:GREGORIAN
METHOD:PUBLISH
X-WR-CALNAME:Empowering Pumps and Equipment
X-ORIGINAL-URL:https://test.empoweringpumps.com
X-WR-CALDESC:Events for Empowering Pumps and Equipment
REFRESH-INTERVAL;VALUE=DURATION:PT1H
X-Robots-Tag:noindex
X-PUBLISHED-TTL:PT1H
BEGIN:VTIMEZONE
TZID:America/Chicago
BEGIN:DAYLIGHT
TZOFFSETFROM:-0600
TZOFFSETTO:-0500
TZNAME:CDT
DTSTART:20230312T080000
END:DAYLIGHT
BEGIN:STANDARD
TZOFFSETFROM:-0500
TZOFFSETTO:-0600
TZNAME:CST
DTSTART:20231105T070000
END:STANDARD
END:VTIMEZONE
BEGIN:VEVENT
DTSTART;TZID=America/Chicago:20230201T110000
DTEND;TZID=America/Chicago:20230201T120000
DTSTAMP:20260424T213745
CREATED:20230118T165807Z
LAST-MODIFIED:20230118T165807Z
UID:51325-1675249200-1675252800@test.empoweringpumps.com
SUMMARY:How to Easily Create Your Own Libraries (formerly called databases)
DESCRIPTION:A great feature in AFT software is the ability for customization. There are many standard options AFT provides for you to use such as pipe materials\, fluid properties\, components & fittings\, pipe insulation\, etc. But when you have your own data\, it is very easy to create your own custom library with that information. Learn how the AFT software library structure works to add your own custom information and how to quickly share it with others. \n10:00 AM-11:00 AM (MST)
URL:https://test.empoweringpumps.com/event/applied-flow-tech-how-to-easily-create-your-own-libraries-formerly-called-databases/
LOCATION:Webinar
ATTACH;FMTTYPE=image/png:https://test.empoweringpumps.com/wp-content/uploads/2022/03/AFT-webinar.png
END:VEVENT
END:VCALENDAR