BEGIN:VCALENDAR
VERSION:2.0
PRODID:-//Empowering Pumps and Equipment - ECPv5.16.4//NONSGML v1.0//EN
CALSCALE:GREGORIAN
METHOD:PUBLISH
X-ORIGINAL-URL:https://test.empoweringpumps.com
X-WR-CALDESC:Events for Empowering Pumps and Equipment
REFRESH-INTERVAL;VALUE=DURATION:PT1H
X-Robots-Tag:noindex
X-PUBLISHED-TTL:PT1H
BEGIN:VTIMEZONE
TZID:Europe/Amsterdam
BEGIN:DAYLIGHT
TZOFFSETFROM:+0100
TZOFFSETTO:+0200
TZNAME:CEST
DTSTART:20230326T010000
END:DAYLIGHT
BEGIN:STANDARD
TZOFFSETFROM:+0200
TZOFFSETTO:+0100
TZNAME:CET
DTSTART:20231029T010000
END:STANDARD
END:VTIMEZONE
BEGIN:VEVENT
DTSTART;TZID=Europe/Amsterdam:20231018T090000
DTEND;TZID=Europe/Amsterdam:20231018T170000
DTSTAMP:20260424T083453
CREATED:20230314T183910Z
LAST-MODIFIED:20230314T183910Z
UID:52091-1697619600-1697648400@test.empoweringpumps.com
SUMMARY:LRVS EMEA
DESCRIPTION:LRVS has become a community of like minded professionals who can connect\, collaborate and add value to each other. It is a platform where stakeholders from across various sectors such as Oil & Gas\, Petrochemical\, Manufacturing\, Mining\, Energy and so many more can share ideas\, chart new ways to revolutionize the sector and stay informed of the current trends. \nLRVS is a meeting place for major global stakeholders and game changers who are making their impact on the world. Join us! \n18 October 2023\n​​​9 am-5 pm Central European time (GMT+1)
URL:https://test.empoweringpumps.com/event/lrvs-emea/
LOCATION:Webinar
ATTACH;FMTTYPE=image/jpeg:https://test.empoweringpumps.com/wp-content/uploads/2023/03/Fluitec-LRVS-2023-Banner-1050x550-Empowering-Pumps-Promo.jpg
END:VEVENT
END:VCALENDAR